BEGIN:VCALENDAR
VERSION:2.0
PRODID:-//Graph Massivizer EU Project - ECPv6.15.20//NONSGML v1.0//EN
CALSCALE:GREGORIAN
METHOD:PUBLISH
X-WR-CALNAME:Graph Massivizer EU Project
X-ORIGINAL-URL:https://graph-massivizer.eu
X-WR-CALDESC:Events for Graph Massivizer EU Project
REFRESH-INTERVAL;VALUE=DURATION:PT1H
X-Robots-Tag:noindex
X-PUBLISHED-TTL:PT1H
BEGIN:VTIMEZONE
TZID:UTC
BEGIN:STANDARD
TZOFFSETFROM:+0000
TZOFFSETTO:+0000
TZNAME:UTC
DTSTART:20230101T000000
END:STANDARD
END:VTIMEZONE
BEGIN:VEVENT
DTSTART;TZID=UTC:20240511T080000
DTEND;TZID=UTC:20240511T080000
DTSTAMP:20260423T114849
CREATED:20260226T071714Z
LAST-MODIFIED:20260226T072612Z
UID:1443-1715414400-1715414400@graph-massivizer.eu
SUMMARY:GraphSys'24
DESCRIPTION:Graphs and GraphSys \nThe use\, interoperability\, and analytical exploitation of graph data are essential for modern digital economies. Today\, thousands of computational methods (algorithms) and findable\, accessible\, interoperable\, and reusable (FAIR) graph datasets exist. However\, current computational capabilities lag when faced with the complex workflows involved in graph processing\, the extreme scale of existing graph datasets\, and the need to consider sustainability metrics in graph-processing operations. Needs are emerging for graph-processing platforms to provide multilingual information processing and reasoning based on the massive graph representation of extreme data in the form of general graphs\, knowledge graphs\, and property graphs. Because graph workloads and graph datasets are strongly irregular\, and involve one or several big data “Vs” (e.g.\, volume\, velocity\, variability\, vicissitude)\, the community needs to reconsider traditional approaches in performance analysis and modeling\, system architectures and techniques\, serverless and “as a service” operation\, real-world and simulation-driven experimentation\, etc.\, and provide new tools and instruments to address emerging challenges in graph processing.   \nGraphs or linked data are crucial to innovation\, competition\, and prosperity and establish a strategic investment in technical processing and ecosystem enablers. Graphs are universal abstractions that capture\, combine\, model\, analyse\, and process knowledge about real and digital worlds into actionable insights through item representation and interconnectedness. For societally relevant problems\, graphs are extreme data that require further technological innovations to meet the needs of the European data economy. Digital graphs help pursue the United Nations Sustainable Development Goals (UN SDG) by enabling better value chains\, products\, and services for more profitable or green investments in the financial sector and deriving trustworthy insight for creating sustainable communities. All science\, engineering\, industry\, economy\, and society-at-large domains can leverage graph data for unique analysis and insight\, but only if graph processing becomes easy-to-use\, fast\, scalable\, and sustainable. \nTo facilitate the exchange of ideas and expertise in the broad field of high-performance large-scale graph processing\, we organize GraphSys\, the second workshop of Serverless\, Extreme-Scale\, and Sustainable Graph Processing Systems. GraphSys is a cross-disciplinary meeting venue focusing on the state-of-the-art and the emerging (future) graph processing systems. We invite experts and trainees in the field\, across academia\, industry\, governance\, and society\, to share experience and expertise leading to a shared body of knowledge\, to formulate together a vision for the field\, and to engage with the topics to foster new approaches\, techniques\, and solutions.  \nGraphSys-2024 will be a full-day workshop with a single session (no parallel sessions). We welcome the wide community of graph processing systems\, and plan to feature invited talks and presentations of papers from within and beyond the GraphMassivizer project. We also plan a panel to introduce and discuss the goals of the GraphMassivizer project and how it can contribute to the strengthening of graph processing research and community.  
URL:https://graph-massivizer.eu/events/graphsys24/
LOCATION:ICPE’24\, London\, United Kingdom
CATEGORIES:AI,DataScience,Extreme-Scale,Graphs,KnowledgeGraphs,Serverless,Sustainable Graph,Sustainable Graph Processing Systems
ATTACH;FMTTYPE=image/jpeg:https://graph-massivizer.wp.itec.aau.at/wp-content/uploads/sites/27/2026/02/GraphSys24.jpeg
END:VEVENT
BEGIN:VEVENT
DTSTART;VALUE=DATE:20240617
DTEND;VALUE=DATE:20240622
DTSTAMP:20260423T114849
CREATED:20240603T121045Z
LAST-MODIFIED:20240603T121356Z
UID:951-1718582400-1719014399@graph-massivizer.eu
SUMMARY:Dubrovnik Meeting: let’s share what we have learned so far!
DESCRIPTION:Graph-Massivizer’s partners will soon gather at the Center for Advanced Academic Studies of the University of Zagreb to engage in crucial discussions. \nThe meeting will focus on assessing the project’s progress and strategizing the next steps towards finalizing the use cases and launching the integrated version of the platform. \nThe event will take place in Dubrovnik\, thanks to the colleagues from the Jožef Stefan Institute who have decided to host the graph massivizers in the city. Dubrovnik is a true jewel of the Adriatic and has been part of the UNESCO cultural heritage since 1979.
URL:https://graph-massivizer.eu/events/dubrovnik-meeting-lets-share-what-we-have-learned-so-far/
CATEGORIES:DataScience,Graphs,KnowledgeGraphs,Sustainable Graph
ATTACH;FMTTYPE=image/png:https://graph-massivizer.wp.itec.aau.at/wp-content/uploads/sites/27/2024/06/Screenshot-2024-06-03-alle-14.09.01.png
END:VEVENT
BEGIN:VEVENT
DTSTART;VALUE=DATE:20240720
DTEND;VALUE=DATE:20240729
DTSTAMP:20260423T114849
CREATED:20240410T123124Z
LAST-MODIFIED:20240410T124219Z
UID:891-1721433600-1722211199@graph-massivizer.eu
SUMMARY:Data Science International Summer School
DESCRIPTION:Organized by  Bucharest University of Economic Studies  in collaboration with the  GATE Institute at Sofia University “St. Kliment Ohridski” and the projects  enRichMyData \,  Graph-Massivizer \,  UPCAST \,  INTEND \, and  InterTwino \,  The goal of this 5th edition of the Summer School is to familiarize participants with relevant state of the art topics in data science and artificial intelligence (AI). The program will cover fundamentals of data science and AI and focus on the following key topics: • Data analytics and statistics • Machine learning and deep learning • Large Language Models and Conversational AI • Causal AI • Time series and graph data • Data sharing • Data and AI pipelines The location where the course will be held is the beautiful town of Predeal\, located in the Transylvania region in Romania\, famous for its mountain landscapes and natural and historical attractions. Register  here  and see you in Predeal!
URL:https://graph-massivizer.eu/events/data-science-international-summer-school/
LOCATION:Predeal\, Romania
CATEGORIES:AI,DataScience,Graphs,KnowledgeGraphs,Sustainable Graph,Sustainable Graph Processing Systems
ATTACH;FMTTYPE=image/png:https://graph-massivizer.wp.itec.aau.at/wp-content/uploads/sites/27/2024/04/Screenshot-2024-04-10-alle-10.25.11.png
END:VEVENT
BEGIN:VEVENT
DTSTART;VALUE=DATE:20240917
DTEND;VALUE=DATE:20240920
DTSTAMP:20260423T114849
CREATED:20240911T093439Z
LAST-MODIFIED:20240911T094121Z
UID:1134-1726531200-1726790399@graph-massivizer.eu
SUMMARY:Graph-Massivizer at SEMANTICS 2024
DESCRIPTION:20th International Conference on Semantic Systems\nWe are pleased to announce that Graph-Massivizer will be featured at the Semantics Conference. \nWe will be presenting our project outcomes through presentations and posters. \nMore information will be coming soon on our social media channels. Stay tuned and follow us! \nInfo on the Conference available  <a href=”https://2024-eu.semantics.cc/ “_blank” rel=”noopener”> here </a> \n  \n 
URL:https://graph-massivizer.eu/events/graph-massivizer-at-semantics-2024/
LOCATION:AMSTERDAM\, Netherlands
CATEGORIES:Extreme-Scale,Graphs,KnowledgeGraphs,Sustainable Graph Processing Systems
ATTACH;FMTTYPE=image/png:https://graph-massivizer.wp.itec.aau.at/wp-content/uploads/sites/27/2024/09/Screenshot-2024-09-11-alle-11.29.50.png
END:VEVENT
BEGIN:VEVENT
DTSTART;VALUE=DATE:20241002
DTEND;VALUE=DATE:20241005
DTSTAMP:20260423T114849
CREATED:20240909T095515Z
LAST-MODIFIED:20240909T095515Z
UID:1090-1727827200-1728086399@graph-massivizer.eu
SUMMARY:Graph-Massivizer at EBDVF 2024
DESCRIPTION:Graph-Massivizer’s partners will soon participate at the European Big Data Value Forum!  \nThe European Big Data Value Forum is BDVA’s flagship event\, bringing together the entire European data-driven AI research and innovation community to share knowledge\, collaborate\, and celebrate achievements.  \nThis year’s event will take place from October 2nd to 4th\, 2024\, in Budapest\, Hungary.  \nGraph-Massivizer will be present in network with Data Nexus Cluster and DATA 01-04 Alliance. \nGet ready for some exciting Sessions featuring Graph-Massivizer! Stay in the loop and find out where you can catch us at the event! \nMore info  HERE
URL:https://graph-massivizer.eu/events/graph-massivizer-at-ebdvf-2024/
LOCATION:BUDAPEST\, Hungary
CATEGORIES:AI,DataScience,Graphs,KnowledgeGraphs
ATTACH;FMTTYPE=image/png:https://graph-massivizer.wp.itec.aau.at/wp-content/uploads/sites/27/2024/09/Screenshot-2024-09-09-alle-11.49.20.png
END:VEVENT
BEGIN:VEVENT
DTSTART;VALUE=DATE:20241104
DTEND;VALUE=DATE:20241106
DTSTAMP:20260423T114849
CREATED:20240911T095529Z
LAST-MODIFIED:20240911T095529Z
UID:1143-1730678400-1730851199@graph-massivizer.eu
SUMMARY:Graph-Massivizer at ADRF 2024
DESCRIPTION:The partners of Graph-Massivizer are scheduled to participate in the ADRF – AI\, Data\, Robotic Forum – taking place in Eindhoven\, Netherlands this upcoming November.  \nWe anticipate the opportunity to engage with you during the event. \nMore information can be found   here
URL:https://graph-massivizer.eu/events/graph-massivizer-at-adrf-2024/
LOCATION:Eindhoven\, Netherlands
ATTACH;FMTTYPE=image/png:https://graph-massivizer.wp.itec.aau.at/wp-content/uploads/sites/27/2024/09/Screenshot-2024-09-11-alle-11.53.57.png
END:VEVENT
BEGIN:VEVENT
DTSTART;VALUE=DATE:20241114
DTEND;VALUE=DATE:20241116
DTSTAMP:20260423T114849
CREATED:20240909T140655Z
LAST-MODIFIED:20240909T140655Z
UID:1095-1731542400-1731715199@graph-massivizer.eu
SUMMARY:Graph-Massivizer at Gaia-X Summit 2024
DESCRIPTION:Empowering Global Data Spaces\, Shaping Tomorrow’s Cloud Infrastructure \nYou may find the program here: \n HERE   \nGet ready for another exciting event!  \nStay tuned for more updates – coming your way soon!
URL:https://graph-massivizer.eu/events/graph-massivizer-at-gaia-x-summit-2024/
LOCATION:Helsinki\, Finland
CATEGORIES:AI,Big Data,DataScience,Extreme-Scale,Graphs
ATTACH;FMTTYPE=image/png:https://graph-massivizer.wp.itec.aau.at/wp-content/uploads/sites/27/2024/09/Screenshot-2024-09-09-alle-16.01.18.png
END:VEVENT
BEGIN:VEVENT
DTSTART;VALUE=DATE:20250421
DTEND;VALUE=DATE:20250426
DTSTAMP:20260423T114849
CREATED:20240911T094648Z
LAST-MODIFIED:20240911T094648Z
UID:1140-1745193600-1745625599@graph-massivizer.eu
SUMMARY:Dagstuhl Seminar  - Holistic Graph-Processing Systems: Enabling Real-World Scale and Societal Impact
DESCRIPTION:In today’s digital landscape\, complexity grows with increasing data volume and degree of interconnection. A suitable data abstraction is crucial for comprehending and navigating this dense network of connections. \nGraph-Massivizers is taking on this challenge and playing a key role in coordinating the Seminar.  \nThe  Dagstuhl Seminar will provide a unique opportunity for encounters between these distinct communities\, each addressing graph processing at scale. We aim to bring together three essential communities: distributed\, parallel\, and cluster computing\, machine learning for\, on\, and with graphs\, and social and information networks. We facilitate therefore a better understanding of each community’s challenges regarding graph processing\, and promote a synergic relationship to shape holistic\, actionable knowledge of graph processing. \nWe are looking forward to meeting you there in 2025! \nMore information can be found   here
URL:https://graph-massivizer.eu/events/dagstuhl-seminar-holistic-graph-processing-systems-enabling-real-world-scale-and-societal-impact/
CATEGORIES:DataScience,Extreme-Scale,Graphs,KnowledgeGraphs,Sustainable Graph,Sustainable Graph Processing Systems
ATTACH;FMTTYPE=image/png:https://graph-massivizer.wp.itec.aau.at/wp-content/uploads/sites/27/2024/09/Screenshot-2024-09-11-alle-11.44.52.png
END:VEVENT
BEGIN:VEVENT
DTSTART;TZID=UTC:20250825T080000
DTEND;TZID=UTC:20250825T170000
DTSTAMP:20260423T114849
CREATED:20260226T073117Z
LAST-MODIFIED:20260226T073117Z
UID:1448-1756108800-1756141200@graph-massivizer.eu
SUMMARY:GraphSys'25
DESCRIPTION:What is GraphSys?\nGraphSys is a venue for specialists from academia and industry to discuss the state of the art of graph processing systems\, from architecture to algorithms\, and from performance to sustainability. Contributions focusing on graph representation of data\, graph representation and processing at scale\, graph processing frameworks and architectures\, parallel and distributed graph processing algorithms and applications\, performance and sustainability studies\, and machine learning on graphs\, are especially welcome. \nWhat about 2025 edition of GraphSys? What is expected?\nGraphSys-2025 will be a full-day (in-person only) workshop\, running a single track (i.e.\, no parallel sessions). We plan to feature one keynote\, 6-10 paper presentations\, 1-2 invited presentation(s)\, and one panel. We will invite submissions of full papers (12 pages)\, as well as work-in-progress\, experience\, and position papers (6 pages). We will run a thorough revision process to select the papers featured in the proceedings.
URL:https://graph-massivizer.eu/events/graphsys25/
LOCATION:EuroPar’25\, Dresden\, Germany
ATTACH;FMTTYPE=image/jpeg:https://graph-massivizer.wp.itec.aau.at/wp-content/uploads/sites/27/2026/02/GraphSys25.jpeg
END:VEVENT
END:VCALENDAR