BEGIN:VCALENDAR
VERSION:2.0
PRODID:-//Graph Massivizer EU Project - ECPv6.15.20//NONSGML v1.0//EN
CALSCALE:GREGORIAN
METHOD:PUBLISH
X-ORIGINAL-URL:http://graph-massivizer.eu
X-WR-CALDESC:Events for Graph Massivizer EU Project
REFRESH-INTERVAL;VALUE=DURATION:PT1H
X-Robots-Tag:noindex
X-PUBLISHED-TTL:PT1H
BEGIN:VTIMEZONE
TZID:UTC
BEGIN:STANDARD
TZOFFSETFROM:+0000
TZOFFSETTO:+0000
TZNAME:UTC
DTSTART:20220101T000000
END:STANDARD
END:VTIMEZONE
BEGIN:VEVENT
DTSTART;TZID=UTC:20230613T090000
DTEND;TZID=UTC:20230615T180000
DTSTAMP:20260421T165503
CREATED:20230608T150907Z
LAST-MODIFIED:20230608T152833Z
UID:711-1686646800-1686852000@graph-massivizer.eu
SUMMARY:DATA WEEK 23
DESCRIPTION:Data Week 2023 is the spring gathering of the European Big Data and Data Driven AI research and innovation communities. In Data Week\, the participants share knowledge and results\, discuss topics of common interest\, find synergies\, build new collaborations and identify new challenges and recommendations. Data Week also links the communities and their results to the European policies and market needs and brings European initiatives and activities closer to local communities. \nData Week 2023 is co-organised by Big Data Value Association and the EUHubs4Data project in collaboration with the Research Institutes of Sweden (RISE). The main event of the Data Week 2023 will take place in Luleå\, Sweden between 13 – 15 June 2023 with the central theme “Data Meets Infrastructure at the Edge!” \n			\n				Visit our web\n			\n				\n				\n				\n				\n				\n			\n				\n				\n				\n				\n				\n					Join us on June 13 -15\, 2023\, in Luleå\, Sweden\n					\n						 \n						Day(s) \n					\n						: \n					\n						 \n						Hour(s) \n					\n						: \n					\n						 \n						Minute(s) \n					\n						: \n					\n						 \n						Second(s)
URL:http://graph-massivizer.eu/events/data-week-23/
LOCATION:Quality Hotel Luleå\, Storgatan 17\, Luleå\, 971 28\, Sweden
CATEGORIES:AI,DataScience,Extreme-Scale,Graphs,KnowledgeGraphs,Serverless,Sustainable Graph,Sustainable Graph Processing Systems
ATTACH;FMTTYPE=image/png:https://graph-massivizer.wp.itec.aau.at/wp-content/uploads/sites/27/2023/06/event1-copia-6.png
ORGANIZER;CN="Big Data Value Association":MAILTO:info@core.bdva.eu
END:VEVENT
END:VCALENDAR